BEGIN:VCALENDAR
VERSION:2.0
PRODID:-//The Lost Sierra Chamber of Commerce - ECPv6.15.20//NONSGML v1.0//EN
CALSCALE:GREGORIAN
METHOD:PUBLISH
X-ORIGINAL-URL:https://lostsierrachamber.org
X-WR-CALDESC:Events for The Lost Sierra Chamber of Commerce
REFRESH-INTERVAL;VALUE=DURATION:PT1H
X-Robots-Tag:noindex
X-PUBLISHED-TTL:PT1H
BEGIN:VTIMEZONE
TZID:America/Los_Angeles
BEGIN:DAYLIGHT
TZOFFSETFROM:-0800
TZOFFSETTO:-0700
TZNAME:PDT
DTSTART:20230312T100000
END:DAYLIGHT
BEGIN:STANDARD
TZOFFSETFROM:-0700
TZOFFSETTO:-0800
TZNAME:PST
DTSTART:20231105T090000
END:STANDARD
BEGIN:DAYLIGHT
TZOFFSETFROM:-0800
TZOFFSETTO:-0700
TZNAME:PDT
DTSTART:20240310T100000
END:DAYLIGHT
BEGIN:STANDARD
TZOFFSETFROM:-0700
TZOFFSETTO:-0800
TZNAME:PST
DTSTART:20241103T090000
END:STANDARD
BEGIN:DAYLIGHT
TZOFFSETFROM:-0800
TZOFFSETTO:-0700
TZNAME:PDT
DTSTART:20250309T100000
END:DAYLIGHT
BEGIN:STANDARD
TZOFFSETFROM:-0700
TZOFFSETTO:-0800
TZNAME:PST
DTSTART:20251102T090000
END:STANDARD
END:VTIMEZONE
BEGIN:VEVENT
DTSTART;TZID=America/Los_Angeles:20240919T170000
DTEND;TZID=America/Los_Angeles:20240919T190000
DTSTAMP:20260420T131016
CREATED:20240125T065258Z
LAST-MODIFIED:20240125T065258Z
UID:7420-1726765200-1726772400@lostsierrachamber.org
SUMMARY:Chamber Member Mixer
DESCRIPTION:Join us for our next Chamber of Commerce mixer. Networking\, light refreshments\, and the chance to talk to all other the other members about what is coming for the season at your business! \n  \nLocation: TBD
URL:https://lostsierrachamber.org/event/chamber-member-mixer-4/
LOCATION:Nakoma Resort\, Restaurant Fifty44\, 348 Bear Run\, Clio\, 96106\, United States
ATTACH;FMTTYPE=image/jpeg:https://lostsierrachamber.org/wp-content/uploads/2023/02/Member-Mixer.jpg
END:VEVENT
BEGIN:VEVENT
DTSTART;TZID=America/Los_Angeles:20240928T110000
DTEND;TZID=America/Los_Angeles:20240928T170000
DTSTAMP:20260420T131016
CREATED:20240118T000630Z
LAST-MODIFIED:20240118T000714Z
UID:7364-1727521200-1727542800@lostsierrachamber.org
SUMMARY:Lost Sierra Railroad Days
DESCRIPTION:
URL:https://lostsierrachamber.org/event/railroad-days/
END:VEVENT
END:VCALENDAR