BEGIN:VCALENDAR
VERSION:2.0
PRODID:-//The Lost Sierra Chamber of Commerce - ECPv6.15.20//NONSGML v1.0//EN
CALSCALE:GREGORIAN
METHOD:PUBLISH
X-WR-CALNAME:The Lost Sierra Chamber of Commerce
X-ORIGINAL-URL:https://lostsierrachamber.org
X-WR-CALDESC:Events for The Lost Sierra Chamber of Commerce
REFRESH-INTERVAL;VALUE=DURATION:PT1H
X-Robots-Tag:noindex
X-PUBLISHED-TTL:PT1H
BEGIN:VTIMEZONE
TZID:America/Los_Angeles
BEGIN:DAYLIGHT
TZOFFSETFROM:-0800
TZOFFSETTO:-0700
TZNAME:PDT
DTSTART:20210314T100000
END:DAYLIGHT
BEGIN:STANDARD
TZOFFSETFROM:-0700
TZOFFSETTO:-0800
TZNAME:PST
DTSTART:20211107T090000
END:STANDARD
BEGIN:DAYLIGHT
TZOFFSETFROM:-0800
TZOFFSETTO:-0700
TZNAME:PDT
DTSTART:20220313T100000
END:DAYLIGHT
BEGIN:STANDARD
TZOFFSETFROM:-0700
TZOFFSETTO:-0800
TZNAME:PST
DTSTART:20221106T090000
END:STANDARD
BEGIN:DAYLIGHT
TZOFFSETFROM:-0800
TZOFFSETTO:-0700
TZNAME:PDT
DTSTART:20230312T100000
END:DAYLIGHT
BEGIN:STANDARD
TZOFFSETFROM:-0700
TZOFFSETTO:-0800
TZNAME:PST
DTSTART:20231105T090000
END:STANDARD
END:VTIMEZONE
BEGIN:VEVENT
DTSTART;TZID=America/Los_Angeles:20221013T090000
DTEND;TZID=America/Los_Angeles:20221013T120000
DTSTAMP:20260420T222652
CREATED:20221005T072606Z
LAST-MODIFIED:20221014T040220Z
UID:354-1665651600-1665662400@lostsierrachamber.org
SUMMARY:Chamber Launch Party
DESCRIPTION:Join us and learn about the exciting new happenings at The Chamber. All members and business owners within Eastern Plumas County are welcome!
URL:https://lostsierrachamber.org/event/chamber-launch-party/
LOCATION:Nakoma Resort\, Restaurant Fifty44\, 348 Bear Run\, Clio\, 96106\, United States
ATTACH;FMTTYPE=image/jpeg:https://lostsierrachamber.org/wp-content/uploads/2022/10/The-Lost-Sierra-Chamber-of-Commerce-Launch-Party-Flyer-JPEG.jpg
END:VEVENT
END:VCALENDAR