BEGIN:VCALENDAR
VERSION:2.0
PRODID:-//The Lost Sierra Chamber of Commerce - ECPv6.15.20//NONSGML v1.0//EN
CALSCALE:GREGORIAN
METHOD:PUBLISH
X-WR-CALNAME:The Lost Sierra Chamber of Commerce
X-ORIGINAL-URL:https://lostsierrachamber.org
X-WR-CALDESC:Events for The Lost Sierra Chamber of Commerce
REFRESH-INTERVAL;VALUE=DURATION:PT1H
X-Robots-Tag:noindex
X-PUBLISHED-TTL:PT1H
BEGIN:VTIMEZONE
TZID:America/Los_Angeles
BEGIN:DAYLIGHT
TZOFFSETFROM:-0800
TZOFFSETTO:-0700
TZNAME:PDT
DTSTART:20230312T100000
END:DAYLIGHT
BEGIN:STANDARD
TZOFFSETFROM:-0700
TZOFFSETTO:-0800
TZNAME:PST
DTSTART:20231105T090000
END:STANDARD
BEGIN:DAYLIGHT
TZOFFSETFROM:-0800
TZOFFSETTO:-0700
TZNAME:PDT
DTSTART:20240310T100000
END:DAYLIGHT
BEGIN:STANDARD
TZOFFSETFROM:-0700
TZOFFSETTO:-0800
TZNAME:PST
DTSTART:20241103T090000
END:STANDARD
BEGIN:DAYLIGHT
TZOFFSETFROM:-0800
TZOFFSETTO:-0700
TZNAME:PDT
DTSTART:20250309T100000
END:DAYLIGHT
BEGIN:STANDARD
TZOFFSETFROM:-0700
TZOFFSETTO:-0800
TZNAME:PST
DTSTART:20251102T090000
END:STANDARD
END:VTIMEZONE
BEGIN:VEVENT
DTSTART;TZID=America/Los_Angeles:20241113T080000
DTEND;TZID=America/Los_Angeles:20241113T100000
DTSTAMP:20260420T113905
CREATED:20241015T170139Z
LAST-MODIFIED:20241015T170139Z
UID:8105-1731484800-1731492000@lostsierrachamber.org
SUMMARY:Lost Sierra Chamber of Commerce Board Meeting
DESCRIPTION:Join us at The Chamber office\, OR via Zoom \n  \n \n  \n\n\nJoin our Board Meeting on Zoom!\n\n\n\n\n(It is the same link every month)\n\n\n\n\nTopic: Lost Sierra Chamber of Commerce Board of Directors Meeting \nTime: 08:00 AM PST\, every month on the Second Wednesday \nJoin Zoom Meeting\nhttps://us06web.zoom.us/j/89951880734 \nMeeting ID: 899 5188 0734 \n— \nOne tap mobile\n+16694449171\,\,89951880734# US \n— \nMeeting ID: 899 5188 0734
URL:https://lostsierrachamber.org/event/lost-sierra-chamber-of-commerce-board-meeting/
ATTACH;FMTTYPE=image/png:https://lostsierrachamber.org/wp-content/uploads/2024/10/Board-Meeting.png
END:VEVENT
END:VCALENDAR